BEGIN:VCALENDAR
VERSION:2.0
PRODID:-//Autograf//Djoin//NO
METHOD:PUBLISH
BEGIN:VTIMEZONE
TZID:Europe/Oslo
BEGIN:DAYLIGHT
TZOFFSETFROM:+0100
RRULE:FREQ=YEARLY;BYMONTH=3;BYDAY=-1SU
DTSTART:19810329T020000
TZNAME:CEST
TZOFFSETTO:+0200
END:DAYLIGHT
BEGIN:STANDARD
TZOFFSETFROM:+0200
RRULE:FREQ=YEARLY;BYMONTH=10;BYDAY=-1SU
DTSTART:19961027T030000
TZNAME:CET
TZOFFSETTO:+0100
END:STANDARD
END:VTIMEZONE
BEGIN:VEVENT
UID:8e926ad5ec4e974e9e68cc871aa8dbb2
DTSTAMP:20260419T151118Z
DTSTART;TZID=Europe/Oslo:20240821T160000Z
URL:https://www.1sandnes.no/aktivitet/3023
SUMMARY:Ragnhildsnuten - Oppstart etter sommerferien
LOCATION:Speiderhytta i Melshei
END:VEVENT
END:VCALENDAR