BEGIN:VCALENDAR
VERSION:2.0
PRODID:-//Autograf//Djoin//NO
METHOD:PUBLISH
BEGIN:VTIMEZONE
TZID:Europe/Oslo
BEGIN:DAYLIGHT
TZOFFSETFROM:+0100
RRULE:FREQ=YEARLY;BYMONTH=3;BYDAY=-1SU
DTSTART:19810329T020000
TZNAME:CEST
TZOFFSETTO:+0200
END:DAYLIGHT
BEGIN:STANDARD
TZOFFSETFROM:+0200
RRULE:FREQ=YEARLY;BYMONTH=10;BYDAY=-1SU
DTSTART:19961027T030000
TZNAME:CET
TZOFFSETTO:+0100
END:STANDARD
END:VTIMEZONE
BEGIN:VEVENT
UID:e7c76a66db604d19953767f01f5e83c0
DTSTAMP:20260423T180914Z
DTSTART;TZID=Europe/Oslo:20140603T153000Z
DTEND;TZID=Europe/Oslo:20140603T170000Z
URL:https://www.1sandnes.no/aktivitet/42
SUMMARY:På besøk i Tananger Sjø.
LOCATION:Holmavika
END:VEVENT
END:VCALENDAR